BEGIN:VCALENDAR
VERSION:2.0
PRODID:-//wp-events-plugin.com//7.2.3.1//EN
TZID:Europe/Berlin
X-WR-TIMEZONE:Europe/Berlin
BEGIN:VEVENT
UID:38@qigong-ausbildung-landau.de
DTSTART;TZID=Europe/Berlin;VALUE=DATE:20220301
DTEND;TZID=Europe/Berlin;VALUE=DATE:20220404
DTSTAMP:20200317T165731Z
URL:https://www.qigong-ausbildung-landau.de/termine/abgabe-der-abschlussar
 beiten-2/
SUMMARY:Abgabe der Abschlussarbeiten
DESCRIPTION:bis Anfang April
CATEGORIES:Ausbildung 2020
END:VEVENT
BEGIN:VTIMEZONE
TZID:Europe/Berlin
X-LIC-LOCATION:Europe/Berlin
BEGIN:STANDARD
DTSTART:20211031T020000
TZOFFSETFROM:+0200
TZOFFSETTO:+0100
TZNAME:CET
END:STANDARD
BEGIN:DAYLIGHT
DTSTART:20220327T030000
TZOFFSETFROM:+0100
TZOFFSETTO:+0200
TZNAME:CEST
END:DAYLIGHT
END:VTIMEZONE
END:VCALENDAR