BEGIN:VCALENDAR
VERSION:2.0
PRODID:-//wp-events-plugin.com//7.2.3.1//EN
TZID:Europe/Berlin
X-WR-TIMEZONE:Europe/Berlin
BEGIN:VEVENT
UID:2@qigong-ausbildung-landau.de
DTSTART;TZID=Europe/Berlin;VALUE=DATE:20180804
DTEND;TZID=Europe/Berlin;VALUE=DATE:20180806
DTSTAMP:20180427T190134Z
URL:https://www.qigong-ausbildung-landau.de/termine/grundlagen-2/
SUMMARY:Grundlagen 2
DESCRIPTION:\n\n\n 	Der Schwimmende Drache\n 	vorbereitende Übungen für F
 üße\, Beine\, Becken\, Wirbelsäule\, Nacken/Schulterbereich\n 	Anatomie
  und Bewegungslehre - aktiver und passiver Bewegungsapparat mit Funktion\
 , hauptsächlichen Störungen\, Bedeutung im Qigong\n- unter besonderer Be
 rücksichtigung von Spiraldynamik\, myofaszialen Zügen\, Beckenboden\n 	V
 ertiefung Haltungsaufbau\, Ursprung des Lichts\, 3-fache Gestalt\n\n\n
CATEGORIES:Ausbildung,Grundlagen
LOCATION:PANAKEIA Praxis für Integrale Heilung\, Lazarettstr. 1\, Landau i
 n der Pfalz\, Rheinland-Pfalz\, 76829\, Südpfalz\, Deutschland
GEO:49.18926;8.103939
X-APPLE-STRUCTURED-LOCATION;VALUE=URI;X-ADDRESS=Lazarettstr. 1\, Landau in 
 der Pfalz\, Rheinland-Pfalz\, 76829\, Südpfalz\, Deutschland;X-APPLE-RADI
 US=100;X-TITLE=PANAKEIA Praxis für Integrale Heilung:geo:49.18926,8.10393
 9
END:VEVENT
BEGIN:VTIMEZONE
TZID:Europe/Berlin
X-LIC-LOCATION:Europe/Berlin
BEGIN:DAYLIGHT
DTSTART:20180325T030000
TZOFFSETFROM:+0100
TZOFFSETTO:+0200
TZNAME:CEST
END:DAYLIGHT
END:VTIMEZONE
END:VCALENDAR