BEGIN:VCALENDAR
VERSION:2.0
PRODID:-//wp-events-plugin.com//7.2.3.1//EN
TZID:Europe/Berlin
X-WR-TIMEZONE:Europe/Berlin
BEGIN:VEVENT
UID:67@qigong-ausbildung-landau.de
DTSTART;TZID=Europe/Berlin;VALUE=DATE:20250705
DTEND;TZID=Europe/Berlin;VALUE=DATE:20250707
DTSTAMP:20240823T181704Z
URL:https://www.qigong-ausbildung-landau.de/termine/paedagogik-didaktik-2-
 3/
SUMMARY:Pädagogik und Psychologie 2
DESCRIPTION:\n 	Selbstverständnis der Kursleitung\n 	Kurskonzeption\, prak
 tische Unterrichtsversuche\n 	Erarbeitung Zielgruppen-spezifischer Kurspl
 äne\n 	Korrekturen\, Umgang mit schwierigen Situationen\n 	Prävention in
  verschiedenen Arbeitsfeldern\n 	Salutogenese\n
CATEGORIES:Ausbildung 2023,Pädagogik/Didaktik
LOCATION:PANAKEIA Praxis für Integrale Heilung\, Lazarettstr. 1\, Landau i
 n der Pfalz\, Rheinland-Pfalz\, 76829\, Südpfalz\, Deutschland
GEO:49.18926;8.103939
X-APPLE-STRUCTURED-LOCATION;VALUE=URI;X-ADDRESS=Lazarettstr. 1\, Landau in 
 der Pfalz\, Rheinland-Pfalz\, 76829\, Südpfalz\, Deutschland;X-APPLE-RADI
 US=100;X-TITLE=PANAKEIA Praxis für Integrale Heilung:geo:49.18926,8.10393
 9
END:VEVENT
BEGIN:VTIMEZONE
TZID:Europe/Berlin
X-LIC-LOCATION:Europe/Berlin
BEGIN:DAYLIGHT
DTSTART:20250330T030000
TZOFFSETFROM:+0100
TZOFFSETTO:+0200
TZNAME:CEST
END:DAYLIGHT
END:VTIMEZONE
END:VCALENDAR